BEGIN:VCALENDAR
VERSION:2.0
PRODID:-//eventon.com NONSGML v1.0//EN
CALSCALE:GREGORIAN
METHOD:PUBLISH
BEGIN:VEVENT
UID:69e7560f7b85d
DTSTAMP:20260421T104847Z
DTSTART:20250402T090000Z
DTEND:20250403T170000Z
LOCATION:Essen
SUMMARY:Selbstsicher in der Führung (2.4.2025)
DESCRIPTION:Verschaffen Sie sich mit emotionaler Stabilität einen Vorsprun
 g bei Führungsherausforderungen. Nutzen Sie Ihre innere Stärke.\nhttps://
 www.gesundheit-und-arbeit.de/events/selbstsicher-in-der-fuehrung-2-4-2025/
URL:https://www.gesundheit-und-arbeit.de/events/selbstsicher-in-der-fuehrung-2-4-2025/
END:VEVENT
END:VCALENDAR