BEGIN:VCALENDAR
VERSION:2.0
PRODID:-//eventon.com NONSGML v1.0//EN
CALSCALE:GREGORIAN
METHOD:PUBLISH
BEGIN:VEVENT
UID:69e740bf5883e
DTSTAMP:20260421T091751Z
DTSTART:20251204T090000Z
DTEND:20251205T170000Z
LOCATION:Essen
SUMMARY:Claims Management fÃ¼r Projektleiter\,  Ingenieure und EinkÃ¤ufer (4.12.2025)
DESCRIPTION:In der Veranstaltung fÃ¼r Projektleiter\,  Ingenieure und EinkÃ
 ¤ufer wird den Teilnehmenden vermittelt\,  wie strittige Forderungen verhin
 dert werden kÃ¶nnen.\nhttps://www.gesundheit-und-arbeit.de/events/claims-ma
 nagement-fuer-projektleiter-ingenieure-und-einkaeufer-4-12-2025/
URL:https://www.gesundheit-und-arbeit.de/events/claims-management-fuer-projektleiter-ingenieure-und-einkaeufer-4-12-2025/
END:VEVENT
END:VCALENDAR