BEGIN:VCALENDAR
VERSION:2.0
PRODID:-//eventon.com NONSGML v1.0//EN
CALSCALE:GREGORIAN
METHOD:PUBLISH
BEGIN:VEVENT
UID:69e4efce44ea8
DTSTAMP:20260419T150758Z
DTSTART:20250203T090000Z
DTEND:20250204T170000Z
LOCATION:Essen
SUMMARY:CE-Konformitätsverfahren (3.2.2025)
DESCRIPTION:Erwerben Sie an nur 2 Tagen Know-how zur systematischen Konform
 itätsbewertung von allen Teilen einer Anlage sowie der Gesamtanlage.\nhttp
 s://www.gesundheit-und-arbeit.de/events/ce-konformitaetsverfahren-3-2-2025/
URL:https://www.gesundheit-und-arbeit.de/events/ce-konformitaetsverfahren-3-2-2025/
END:VEVENT
END:VCALENDAR