BEGIN:VCALENDAR
VERSION:2.0
PRODID:-//eventon.com NONSGML v1.0//EN
CALSCALE:GREGORIAN
METHOD:PUBLISH
BEGIN:VEVENT
UID:69e49e7b0772b
DTSTAMP:20260419T092059Z
DTSTART:20250915T090000Z
DTEND:20250916T170000Z
LOCATION:Essen
SUMMARY:Der sichere Weg für den Konstrukteur zum CE-Zeichen (15.9.2025)
DESCRIPTION:Für mehr Produktsicherheit: Erwerben Sie Know-how zur systemat
 ischen Durchführung von Risikobeurteilungen und konstruktionsbegleitenden 
 Gefahrenanalyse\nhttps://www.gesundheit-und-arbeit.de/events/der-sichere-we
 g-fuer-den-konstrukteur-zum-ce-zeichen-15-9-2025/
URL:https://www.gesundheit-und-arbeit.de/events/der-sichere-weg-fuer-den-konstrukteur-zum-ce-zeichen-15-9-2025/
END:VEVENT
END:VCALENDAR