BEGIN:VCALENDAR
VERSION:2.0
PRODID:-//eventon.com NONSGML v1.0//EN
CALSCALE:GREGORIAN
METHOD:PUBLISH
BEGIN:VEVENT
UID:69e751f67d88e
DTSTAMP:20260421T103118Z
DTSTART:20251127T090000Z
DTEND:20251128T170000Z
LOCATION:Essen
SUMMARY:Sicherheitsdatenblätter - Auffrischungskurs der Fachkunde (27.11.2025)
DESCRIPTION:Ersteller von Sicherheitsdatenblättern bringen ihr Wissen auf 
 den neuesten Stand und erfüllen die Anforderungen zur Auffrischung der Qua
 lifikation.\nhttps://www.gesundheit-und-arbeit.de/events/sicherheitsdatenbl
 aetter-auffrischungskurs-der-fachkunde-27-11-2025/
URL:https://www.gesundheit-und-arbeit.de/events/sicherheitsdatenblaetter-auffrischungskurs-der-fachkunde-27-11-2025/
END:VEVENT
END:VCALENDAR