BEGIN:VCALENDAR
VERSION:2.0
PRODID:-//eventon.com NONSGML v1.0//EN
CALSCALE:GREGORIAN
METHOD:PUBLISH
BEGIN:VEVENT
UID:69e5e9b008e02
DTSTAMP:20260420T085408Z
DTSTART:20250519T090000Z
DTEND:20250523T170000Z
LOCATION:Essen
SUMMARY:CE-Koordinator CE-Beauftragter (19.5.2025)
DESCRIPTION:Schulung zur gezielten Vorbereitung auf relevanten Aufgaben als
  CE-Koordinator\nhttps://www.gesundheit-und-arbeit.de/events/ce-koordinator
 -ce-beauftragter-19-5-2025/
URL:https://www.gesundheit-und-arbeit.de/events/ce-koordinator-ce-beauftragter-19-5-2025/
END:VEVENT
END:VCALENDAR