BEGIN:VCALENDAR
VERSION:2.0
PRODID:-//eventon.com NONSGML v1.0//EN
CALSCALE:GREGORIAN
METHOD:PUBLISH
BEGIN:VEVENT
UID:69e8a34306095
DTSTAMP:20260422T103027Z
DTSTART:20260302T090000Z
DTEND:20260304T170000Z
LOCATION:Essen
SUMMARY:Ausbilder für Nutzer der PSAgA (2.3.2026)
DESCRIPTION:Ausbilder für Nutzer der PSAgA: Werden Sie fachkundiger Traine
 r in nur 3 Tagen! Theorie trifft Praxis – sichern Sie sich Ihren Platz!\n
 https://www.gesundheit-und-arbeit.de/events/ausbilder-fuer-nutzer-der-psaga
 -2-3-2026/
URL:https://www.gesundheit-und-arbeit.de/events/ausbilder-fuer-nutzer-der-psaga-2-3-2026/
END:VEVENT
END:VCALENDAR