BEGIN:VCALENDAR
VERSION:2.0
PRODID:-//eventon.com NONSGML v1.0//EN
CALSCALE:GREGORIAN
METHOD:PUBLISH
BEGIN:VEVENT
UID:69e5ea53ba5ce
DTSTAMP:20260420T085651Z
DTSTART:20260318T090000Z
DTEND:20260319T170000Z
LOCATION:Essen
SUMMARY:Intensivseminar Betriebswirtschaft für Ingenieure und Techniker (18.3.2026)
DESCRIPTION:Sie lernen betriebswirtschaftliche Kompetenz sowie die wichtigs
 ten Einflussvariablen unternehmerischen Handelns kennen.\nhttps://www.gesun
 dheit-und-arbeit.de/events/intensivseminar-betriebswirtschaft-fuer-ingenieu
 re-und-techniker-18-3-2026/
URL:https://www.gesundheit-und-arbeit.de/events/intensivseminar-betriebswirtschaft-fuer-ingenieure-und-techniker-18-3-2026/
END:VEVENT
END:VCALENDAR