BEGIN:VCALENDAR
VERSION:2.0
PRODID:-//eventon.com NONSGML v1.0//EN
CALSCALE:GREGORIAN
METHOD:PUBLISH
BEGIN:VEVENT
UID:69e88acebc19d
DTSTAMP:20260422T084606Z
DTSTART:20261201T090000Z
DTEND:20261202T170000Z
LOCATION:Essen
SUMMARY:Zur Prüfung befähigte Person von Stetigförderern (1.12.2026)
DESCRIPTION:Qualifikation zur Befähigten Person für Betreiber von Förder
 technik-Anlagen: BetrSichV\,  Grundlagen Stetigförderer\,  Inbetriebnahme\
 ,  Wartung\,  Instandhaltung\nhttps://www.gesundheit-und-arbeit.de/events/z
 ur-pruefung-befaehigte-person-von-stetigfoerderern-1-12-2026/
URL:https://www.gesundheit-und-arbeit.de/events/zur-pruefung-befaehigte-person-von-stetigfoerderern-1-12-2026/
END:VEVENT
END:VCALENDAR